BEGIN:VCALENDAR
VERSION:2.0
PRODID:-//Christusbund Rohrau - ECPv5.16.4.1//NONSGML v1.0//EN
CALSCALE:GREGORIAN
METHOD:PUBLISH
X-WR-CALNAME:Christusbund Rohrau
X-ORIGINAL-URL:https://christusbund-rohrau.de
X-WR-CALDESC:Veranstaltungen für Christusbund Rohrau
BEGIN:VTIMEZONE
TZID:Europe/Berlin
BEGIN:DAYLIGHT
TZOFFSETFROM:+0100
TZOFFSETTO:+0200
TZNAME:CEST
DTSTART:20260329T010000
END:DAYLIGHT
BEGIN:STANDARD
TZOFFSETFROM:+0200
TZOFFSETTO:+0100
TZNAME:CET
DTSTART:20261025T010000
END:STANDARD
END:VTIMEZONE
BEGIN:VEVENT
DTSTART;TZID=Europe/Berlin:20261215T114500
DTEND;TZID=Europe/Berlin:20261215T140000
DTSTAMP:20260424T100105
CREATED:20260315T124755Z
LAST-MODIFIED:20260315T124755Z
UID:4875-1797335100-1797343200@christusbund-rohrau.de
SUMMARY:Küche am Mittag
DESCRIPTION:… ist ein Ort der Begegnung und Gemeinschaft für Jung und Alt\, Alleinstehenede und Familien \n  \nHerzliche Einladung zum Mittagessen im Gemeindezentrum – eine Anmeldung ist nicht erforderlich \n  \n11:45 – 14:00 Uhr \nUnser letzer Termin in 2026. Danke\, dass Sie dabei sind oder bei einem der vergangenen Termine mit dabei waren. Für 2027 erfolgt rechtzeitige Information \n  \nÜber eine Spende zur Deckung der Kosten freuen wir un sehr!
URL:https://christusbund-rohrau.de/termine/kueche-am-mittag-6-2/
LOCATION:Gemeindezentrum\, Gärtringer Str. 31\, Rohrau\, 71116\, Deutschland
CATEGORIES:Mittagessen
ATTACH;FMTTYPE=image/jpeg:https://www.christusbund.de/rohrau/wp-content/uploads/sites/17/2026/03/kueche_-am_mittag_2026-1.jpg
END:VEVENT
END:VCALENDAR