BEGIN:VCALENDAR
VERSION:2.0
PRODID:-//Christusbund Rohrau - ECPv5.16.4.1//NONSGML v1.0//EN
CALSCALE:GREGORIAN
METHOD:PUBLISH
X-WR-CALNAME:Christusbund Rohrau
X-ORIGINAL-URL:https://christusbund-rohrau.de
X-WR-CALDESC:Veranstaltungen für Christusbund Rohrau
BEGIN:VTIMEZONE
TZID:Europe/Berlin
BEGIN:DAYLIGHT
TZOFFSETFROM:+0100
TZOFFSETTO:+0200
TZNAME:CEST
DTSTART:20230326T010000
END:DAYLIGHT
BEGIN:STANDARD
TZOFFSETFROM:+0200
TZOFFSETTO:+0100
TZNAME:CET
DTSTART:20231029T010000
END:STANDARD
END:VTIMEZONE
BEGIN:VEVENT
DTSTART;TZID=Europe/Berlin:20230806T173000
DTEND;TZID=Europe/Berlin:20230806T183000
DTSTAMP:20260425T005958
CREATED:20230521T094658Z
LAST-MODIFIED:20230731T063656Z
UID:4118-1691343000-1691346600@christusbund-rohrau.de
SUMMARY:Gottesdienst
DESCRIPTION:Herzliche Einladung zu unserem Gottesdienst im Rahmen unseres  Monats-Themas im  August: Leben voller Hoffnung – weil Jesus wieder kommt. \n  \nPrediger:   Carlo Bühner                       Predigttext: 1. Thess. 4\, 13-18-  “Voller Hoffnung leben – weil Jesus wieder kommt” \nDie Kinder haben ihr eigenes Programm \n  \nZoom: Wer am Gottesdienst von zu Hause per Zoom teilnehmen will\, darf sich hier für die Zugangsdaten melden. \n 
URL:https://christusbund-rohrau.de/termine/gottesdienst-2021-10-03-3-2-2-3-2-3-2-2-3-4-2-2-3-2-3-3-2-3-3-3-4-2-2-2-4-2-3-2-2-3-3-2-2-2/
LOCATION:Gemeindezentrum\, Gärtringer Str. 31\, Rohrau\, 71116\, Deutschland
CATEGORIES:Gottesdienst
ATTACH;FMTTYPE=image/jpeg:https://www.christusbund.de/rohrau/wp-content/uploads/sites/17/2017/05/book-1210029_1280.jpg
END:VEVENT
END:VCALENDAR