BEGIN:VCALENDAR
VERSION:2.0
PRODID:-//Christusbund Rohrau - ECPv5.16.4.1//NONSGML v1.0//EN
CALSCALE:GREGORIAN
METHOD:PUBLISH
X-WR-CALNAME:Christusbund Rohrau
X-ORIGINAL-URL:https://christusbund-rohrau.de
X-WR-CALDESC:Veranstaltungen für Christusbund Rohrau
BEGIN:VTIMEZONE
TZID:Europe/Berlin
BEGIN:DAYLIGHT
TZOFFSETFROM:+0100
TZOFFSETTO:+0200
TZNAME:CEST
DTSTART:20220327T010000
END:DAYLIGHT
BEGIN:STANDARD
TZOFFSETFROM:+0200
TZOFFSETTO:+0100
TZNAME:CET
DTSTART:20221030T010000
END:STANDARD
END:VTIMEZONE
BEGIN:VEVENT
DTSTART;TZID=Europe/Berlin:20221203T090000
DTEND;TZID=Europe/Berlin:20221203T110000
DTSTAMP:20260422T061011
CREATED:20221107T090332Z
LAST-MODIFIED:20221107T094337Z
UID:3958-1670058000-1670065200@christusbund-rohrau.de
SUMMARY:Treffpunkt Frau 2022
DESCRIPTION:Herzliche Einladung zu einem leckeren Frühstück und mutmachenden Vortrag mit Margarete Pfau zum Thema “Königlich beschenkt! Gott sagt “Ja” zu uns – Er schenkt sich selbst” \n  \nVerbindliche Anmeldung bitte bis zum 01.12.2022 an: \nUrsula Schmid\, Tel. 07034 29760 oder per email: ursulas61@gmx.de \n  \nUnkostenbeitrag  10 €.  Kinderbetreuung wird angeboten
URL:https://christusbund-rohrau.de/termine/treffpunkt-frau-2021-2/
LOCATION:Gemeindezentrum\, Gärtringer Str. 31\, Rohrau\, 71116\, Deutschland
CATEGORIES:Frauenfrühstück
ATTACH;FMTTYPE=application/pdf:https://www.christusbund.de/rohrau/wp-content/uploads/sites/17/2022/11/Frauenfruehstueck_2022_a6.pdf
END:VEVENT
END:VCALENDAR